BEGIN:VCALENDAR
VERSION:2.0
PRODID:-//Orquesta Sinfónica - ECPv6.15.17.1//NONSGML v1.0//EN
CALSCALE:GREGORIAN
METHOD:PUBLISH
X-ORIGINAL-URL:https://sinfonicadeloja.gob.ec
X-WR-CALDESC:Eventos para Orquesta Sinfónica
REFRESH-INTERVAL;VALUE=DURATION:PT1H
X-Robots-Tag:noindex
X-PUBLISHED-TTL:PT1H
BEGIN:VTIMEZONE
TZID:America/New_York
BEGIN:DAYLIGHT
TZOFFSETFROM:-0500
TZOFFSETTO:-0400
TZNAME:EDT
DTSTART:20240310T070000
END:DAYLIGHT
BEGIN:STANDARD
TZOFFSETFROM:-0400
TZOFFSETTO:-0500
TZNAME:EST
DTSTART:20241103T060000
END:STANDARD
BEGIN:DAYLIGHT
TZOFFSETFROM:-0500
TZOFFSETTO:-0400
TZNAME:EDT
DTSTART:20250309T070000
END:DAYLIGHT
BEGIN:STANDARD
TZOFFSETFROM:-0400
TZOFFSETTO:-0500
TZNAME:EST
DTSTART:20251102T060000
END:STANDARD
BEGIN:DAYLIGHT
TZOFFSETFROM:-0500
TZOFFSETTO:-0400
TZNAME:EDT
DTSTART:20260308T070000
END:DAYLIGHT
BEGIN:STANDARD
TZOFFSETFROM:-0400
TZOFFSETTO:-0500
TZNAME:EST
DTSTART:20261101T060000
END:STANDARD
END:VTIMEZONE
BEGIN:VEVENT
DTSTART;TZID=America/New_York:20250912T200000
DTEND;TZID=America/New_York:20250912T210000
DTSTAMP:20260421T073418
CREATED:20250903T150536Z
LAST-MODIFIED:20250903T152006Z
UID:220435-1757707200-1757710800@sinfonicadeloja.gob.ec
SUMMARY:MÚSICA DEL MUNDO
DESCRIPTION:Director: Maestro Guerassim Voronkov \nTeatro Benjamín Carrión Mora \nObras de Brahms\, Gershwin\, Chapí y Ojeda Dávila \nEntrada libre
URL:https://sinfonicadeloja.gob.ec/event/musica-del-mundo/
ATTACH;FMTTYPE=image/jpeg:https://sinfonicadeloja.gob.ec/wp-content/uploads/2025/09/Imagen-de-WhatsApp-2025-09-01-a-las-08.41.42_b9d56ff3.jpg
END:VEVENT
END:VCALENDAR